BEGIN:VCALENDAR
VERSION:2.0
PRODID:-//Tommy Finke - ECPv6.15.20//NONSGML v1.0//EN
CALSCALE:GREGORIAN
METHOD:PUBLISH
X-WR-CALNAME:Tommy Finke
X-ORIGINAL-URL:https://www.tommyfinke.de
X-WR-CALDESC:Veranstaltungen für Tommy Finke
REFRESH-INTERVAL;VALUE=DURATION:PT1H
X-Robots-Tag:noindex
X-PUBLISHED-TTL:PT1H
BEGIN:VTIMEZONE
TZID:Europe/Berlin
BEGIN:DAYLIGHT
TZOFFSETFROM:+0100
TZOFFSETTO:+0200
TZNAME:CEST
DTSTART:20160327T010000
END:DAYLIGHT
BEGIN:STANDARD
TZOFFSETFROM:+0200
TZOFFSETTO:+0100
TZNAME:CET
DTSTART:20161030T010000
END:STANDARD
BEGIN:DAYLIGHT
TZOFFSETFROM:+0100
TZOFFSETTO:+0200
TZNAME:CEST
DTSTART:20170326T010000
END:DAYLIGHT
BEGIN:STANDARD
TZOFFSETFROM:+0200
TZOFFSETTO:+0100
TZNAME:CET
DTSTART:20171029T010000
END:STANDARD
BEGIN:DAYLIGHT
TZOFFSETFROM:+0100
TZOFFSETTO:+0200
TZNAME:CEST
DTSTART:20180325T010000
END:DAYLIGHT
BEGIN:STANDARD
TZOFFSETFROM:+0200
TZOFFSETTO:+0100
TZNAME:CET
DTSTART:20181028T010000
END:STANDARD
END:VTIMEZONE
BEGIN:VEVENT
DTSTART;TZID=Europe/Berlin:20170630T190000
DTEND;TZID=Europe/Berlin:20170630T190000
DTSTAMP:20260425T172904
CREATED:20250926T131000Z
LAST-MODIFIED:20250926T131000Z
UID:2659-1498849200-1498849200@www.tommyfinke.de
SUMMARY:Tommy Finke
DESCRIPTION:rrbone\, LP Electronic und Froilein Meier laden am 30.06. ab 18:30 zum Beisammensein im Kreuzviertel ein. Mit Live-Musik von Tommy Finke!
URL:https://www.tommyfinke.de/termin/tommy-finke-54/
END:VEVENT
END:VCALENDAR