BEGIN:VCALENDAR
VERSION:2.0
PRODID:-//Tommy Finke - ECPv6.15.20//NONSGML v1.0//EN
CALSCALE:GREGORIAN
METHOD:PUBLISH
X-WR-CALNAME:Tommy Finke
X-ORIGINAL-URL:https://www.tommyfinke.de
X-WR-CALDESC:Veranstaltungen für Tommy Finke
REFRESH-INTERVAL;VALUE=DURATION:PT1H
X-Robots-Tag:noindex
X-PUBLISHED-TTL:PT1H
BEGIN:VTIMEZONE
TZID:Europe/Berlin
BEGIN:DAYLIGHT
TZOFFSETFROM:+0100
TZOFFSETTO:+0200
TZNAME:CEST
DTSTART:20170326T010000
END:DAYLIGHT
BEGIN:STANDARD
TZOFFSETFROM:+0200
TZOFFSETTO:+0100
TZNAME:CET
DTSTART:20171029T010000
END:STANDARD
BEGIN:DAYLIGHT
TZOFFSETFROM:+0100
TZOFFSETTO:+0200
TZNAME:CEST
DTSTART:20180325T010000
END:DAYLIGHT
BEGIN:STANDARD
TZOFFSETFROM:+0200
TZOFFSETTO:+0100
TZNAME:CET
DTSTART:20181028T010000
END:STANDARD
BEGIN:DAYLIGHT
TZOFFSETFROM:+0100
TZOFFSETTO:+0200
TZNAME:CEST
DTSTART:20190331T010000
END:DAYLIGHT
BEGIN:STANDARD
TZOFFSETFROM:+0200
TZOFFSETTO:+0100
TZNAME:CET
DTSTART:20191027T010000
END:STANDARD
END:VTIMEZONE
BEGIN:VEVENT
DTSTART;TZID=Europe/Berlin:20180909T170000
DTEND;TZID=Europe/Berlin:20180909T170000
DTSTAMP:20260424T175151
CREATED:20250926T130939Z
LAST-MODIFIED:20250926T130939Z
UID:2643-1536512400-1536512400@www.tommyfinke.de
SUMMARY:Tommy Finke
DESCRIPTION:Tommy Finke beim Bochumer Musiksommer auf der Wohnzimmerbühne seines Labels Retter des Rock Records.
URL:https://www.tommyfinke.de/termin/tommy-finke-38/
END:VEVENT
END:VCALENDAR