BEGIN:VCALENDAR
VERSION:2.0
PRODID:-//Tommy Finke - ECPv6.15.20//NONSGML v1.0//EN
CALSCALE:GREGORIAN
METHOD:PUBLISH
X-WR-CALNAME:Tommy Finke
X-ORIGINAL-URL:https://www.tommyfinke.de
X-WR-CALDESC:Veranstaltungen für Tommy Finke
REFRESH-INTERVAL;VALUE=DURATION:PT1H
X-Robots-Tag:noindex
X-PUBLISHED-TTL:PT1H
BEGIN:VTIMEZONE
TZID:Europe/Berlin
BEGIN:DAYLIGHT
TZOFFSETFROM:+0100
TZOFFSETTO:+0200
TZNAME:CEST
DTSTART:20200329T010000
END:DAYLIGHT
BEGIN:STANDARD
TZOFFSETFROM:+0200
TZOFFSETTO:+0100
TZNAME:CET
DTSTART:20201025T010000
END:STANDARD
BEGIN:DAYLIGHT
TZOFFSETFROM:+0100
TZOFFSETTO:+0200
TZNAME:CEST
DTSTART:20210328T010000
END:DAYLIGHT
BEGIN:STANDARD
TZOFFSETFROM:+0200
TZOFFSETTO:+0100
TZNAME:CET
DTSTART:20211031T010000
END:STANDARD
BEGIN:DAYLIGHT
TZOFFSETFROM:+0100
TZOFFSETTO:+0200
TZNAME:CEST
DTSTART:20220327T010000
END:DAYLIGHT
BEGIN:STANDARD
TZOFFSETFROM:+0200
TZOFFSETTO:+0100
TZNAME:CET
DTSTART:20221030T010000
END:STANDARD
END:VTIMEZONE
BEGIN:VEVENT
DTSTART;TZID=Europe/Berlin:20210715T190000
DTEND;TZID=Europe/Berlin:20210715T190000
DTSTAMP:20260422T111955
CREATED:20250926T130918Z
LAST-MODIFIED:20250926T130918Z
UID:2632-1626375600-1626375600@www.tommyfinke.de
SUMMARY:Tommy Finke
DESCRIPTION:Das erste Konzert nach der Corona-Pause!
URL:https://www.tommyfinke.de/termin/tommy-finke-27/
END:VEVENT
END:VCALENDAR