BEGIN:VCALENDAR
VERSION:2.0
PRODID:-//Tommy Finke - ECPv6.15.20//NONSGML v1.0//EN
CALSCALE:GREGORIAN
METHOD:PUBLISH
X-WR-CALNAME:Tommy Finke
X-ORIGINAL-URL:https://www.tommyfinke.de
X-WR-CALDESC:Veranstaltungen für Tommy Finke
REFRESH-INTERVAL;VALUE=DURATION:PT1H
X-Robots-Tag:noindex
X-PUBLISHED-TTL:PT1H
BEGIN:VTIMEZONE
TZID:Europe/Berlin
BEGIN:DAYLIGHT
TZOFFSETFROM:+0100
TZOFFSETTO:+0200
TZNAME:CEST
DTSTART:20200329T010000
END:DAYLIGHT
BEGIN:STANDARD
TZOFFSETFROM:+0200
TZOFFSETTO:+0100
TZNAME:CET
DTSTART:20201025T010000
END:STANDARD
BEGIN:DAYLIGHT
TZOFFSETFROM:+0100
TZOFFSETTO:+0200
TZNAME:CEST
DTSTART:20210328T010000
END:DAYLIGHT
BEGIN:STANDARD
TZOFFSETFROM:+0200
TZOFFSETTO:+0100
TZNAME:CET
DTSTART:20211031T010000
END:STANDARD
BEGIN:DAYLIGHT
TZOFFSETFROM:+0100
TZOFFSETTO:+0200
TZNAME:CEST
DTSTART:20220327T010000
END:DAYLIGHT
BEGIN:STANDARD
TZOFFSETFROM:+0200
TZOFFSETTO:+0100
TZNAME:CET
DTSTART:20221030T010000
END:STANDARD
END:VTIMEZONE
BEGIN:VEVENT
DTSTART;TZID=Europe/Berlin:20210829T173000
DTEND;TZID=Europe/Berlin:20210829T173000
DTSTAMP:20260422T094507
CREATED:20250926T130918Z
LAST-MODIFIED:20250926T130918Z
UID:2631-1630258200-1630258200@www.tommyfinke.de
SUMMARY:Tommy Finke
DESCRIPTION:ACHTUNG: VERLEGT IN DIE ROTUNDE!!!\nDie Retter des Rock Records Überraschungsbühne!\n(Wir haben selbst nicht mehr damit gerechnet…)\nHelge Schneider\, Nena… alle brechen ihre Konzerte wegen irgendwas ab. Wir nicht! Im Gegenteil!\nLetztes Jahr musste die RdRR Wohnzimmerbühne beim Bochumer Musiksommer ausfallen\, auch dieses Jahr gibt’s keinen Musiksommer\, was nicht nur am Wetter liegt.\nAber es gibt den Kulturbiergarten und da dachten wir uns: warum eigentlich nicht?\nErlebt die Meister*innen des Indiepop auf dem Höhepunkt ihres Schaffens:\nTommy Finke (www.tommyfinke.de)\nLilou (www.lilou-musik.de)\nWolke (www.wolkemusik.de)\nPele Caster (www.pelecaster.de)\nMenschen! Biere! Sensationen!
URL:https://www.tommyfinke.de/termin/tommy-finke-26/
END:VEVENT
END:VCALENDAR