BEGIN:VCALENDAR
VERSION:2.0
PRODID:-//Tommy Finke - ECPv6.15.20//NONSGML v1.0//EN
CALSCALE:GREGORIAN
METHOD:PUBLISH
X-WR-CALNAME:Tommy Finke
X-ORIGINAL-URL:https://www.tommyfinke.de
X-WR-CALDESC:Veranstaltungen für Tommy Finke
REFRESH-INTERVAL;VALUE=DURATION:PT1H
X-Robots-Tag:noindex
X-PUBLISHED-TTL:PT1H
BEGIN:VTIMEZONE
TZID:Europe/Berlin
BEGIN:DAYLIGHT
TZOFFSETFROM:+0100
TZOFFSETTO:+0200
TZNAME:CEST
DTSTART:20220327T010000
END:DAYLIGHT
BEGIN:STANDARD
TZOFFSETFROM:+0200
TZOFFSETTO:+0100
TZNAME:CET
DTSTART:20221030T010000
END:STANDARD
BEGIN:DAYLIGHT
TZOFFSETFROM:+0100
TZOFFSETTO:+0200
TZNAME:CEST
DTSTART:20230326T010000
END:DAYLIGHT
BEGIN:STANDARD
TZOFFSETFROM:+0200
TZOFFSETTO:+0100
TZNAME:CET
DTSTART:20231029T010000
END:STANDARD
BEGIN:DAYLIGHT
TZOFFSETFROM:+0100
TZOFFSETTO:+0200
TZNAME:CEST
DTSTART:20240331T010000
END:DAYLIGHT
BEGIN:STANDARD
TZOFFSETFROM:+0200
TZOFFSETTO:+0100
TZNAME:CET
DTSTART:20241027T010000
END:STANDARD
END:VTIMEZONE
BEGIN:VEVENT
DTSTART;TZID=Europe/Berlin:20230609T200000
DTEND;TZID=Europe/Berlin:20230609T200000
DTSTAMP:20260421T010143
CREATED:20250926T130906Z
LAST-MODIFIED:20250926T130906Z
UID:2621-1686340800-1686340800@www.tommyfinke.de
SUMMARY:Tommy Finke
DESCRIPTION:
URL:https://www.tommyfinke.de/termin/tommy-finke-16/
END:VEVENT
BEGIN:VEVENT
DTSTART;TZID=Europe/Berlin:20230610T190000
DTEND;TZID=Europe/Berlin:20230610T190000
DTSTAMP:20260421T010143
CREATED:20250926T130859Z
LAST-MODIFIED:20250926T130859Z
UID:2620-1686423600-1686423600@www.tommyfinke.de
SUMMARY:Tommy Finke
DESCRIPTION:Tommy Finke und Nadine Fingerhut in der Kulturfabrik Salzmann in Kassel! Doppelkonzert :-)
URL:https://www.tommyfinke.de/termin/tommy-finke-15/
END:VEVENT
END:VCALENDAR